BEGIN:VCALENDAR
VERSION:2.0
PRODID:-//wp-events-plugin.com//7.2.3.1//EN
TZID:Europe/Berlin
X-WR-TIMEZONE:Europe/Berlin
BEGIN:VEVENT
UID:8@bit.fau.org
DTSTART;TZID=Europe/Berlin:20260422T200000
DTEND;TZID=Europe/Berlin:20260422T220000
DTSTAMP:20260305T125256Z
URL:https://bit.fau.org/events/aachen-cccac-trifft-die-fau-vorstellung-der
 -it-brancheninitiative/
SUMMARY:Aachen: CCCAC trifft die FAU - Vorstellung der IT-Brancheninitiativ
 e
DESCRIPTION:Die globalgesellschaftliche Lage ist ernst und viele sind hoffn
 ungslos. Wir wollen euch zeigen\, wie man mit der eigenen Hoffnungslosigke
 it umgeht und warum gerade wir\, die im Tech-Sektor arbeiten und das Chaos
  zu dem machen was es ist\, sich besonders gut dazu eignen basisdemokratis
 che antikapitalistische Kämpfe auszufechten. Das braucht die richtige Pro
 blemanalyse und eine noch bessere Lösungsstrategie...\n\nDie Veranstaltun
 g ist Teil des Aktionsmonats "Chaos+ trifft die FAU". Alle Infos findet ih
 r hier: https://bit.fau.org/2026/03/05/grosse-ankuendigung-chaos-trifft-di
 e-fau-aktionsmonat-april/\n\n\n\nDie FAU Aachen ist eine basisdemokratisc
 he Selbstorganisation von Arbeiter*innen (Gewerkschaft) die mehr als nur e
 in paar Prozent mehr auf dem Lohnzettel erreichen wollen. Unser Ziel ist e
 ine Wirtschafts- und Gesellschaftsordnung\, die auf kollektiver Selbstverw
 altung basiert. Wir setzen auf klassenkämpferische\, direkte Aktionen un
 d (internationale) Solidarität statt Sozialpartnerschaft und Standortlogi
 k.\n\nhttps://aachen.fau.org
ATTACH;FMTTYPE=image/jpeg:https://bit.fau.org/wp-content/uploads/2026/02/C
 haos-trifft-die-FAU-Sharepic-Aachen.png
CATEGORIES:FAU Aachen
LOCATION:CCCAC\, Schützenstraße 11\, Aachen\, Nordrhein-Westfalen\, 52062
 \, Deutschland
X-APPLE-STRUCTURED-LOCATION;VALUE=URI;X-ADDRESS=Schützenstraße 11\, Aache
 n\, Nordrhein-Westfalen\, 52062\, Deutschland;X-APPLE-RADIUS=100;X-TITLE=C
 CCAC:geo:0,0
END:VEVENT
BEGIN:VTIMEZONE
TZID:Europe/Berlin
X-LIC-LOCATION:Europe/Berlin
BEGIN:DAYLIGHT
DTSTART:20260329T030000
TZOFFSETFROM:+0100
TZOFFSETTO:+0200
TZNAME:CEST
END:DAYLIGHT
END:VTIMEZONE
END:VCALENDAR