BEGIN:VCALENDAR
VERSION:2.0
PRODID:-//wp-events-plugin.com//7.2.3.1//EN
TZID:Europe/Berlin
X-WR-TIMEZONE:Europe/Berlin
BEGIN:VEVENT
UID:16@bit.fau.org
DTSTART;TZID=Europe/Berlin:20260521T190000
DTEND;TZID=Europe/Berlin:20260521T203000
DTSTAMP:20260420T083139Z
URL:https://bit.fau.org/events/branchentreffen-der-fau-bit-mai-2026/
SUMMARY:Branchentreffen der FAU BIT - Mai 2026
DESCRIPTION:Das Branchentreffen ist die Hauptversammlung der Brancheninitia
 tive IT der FAU\, bei der wichtige Entscheidungen für die Initiative getr
 offen und aktuelle Entwicklungen besprochen werden. Die Veranstaltung ist 
 nur für FAU Mitglieder zugänglich. Der Videokonferenzlink wird über den
  Mailverteiler gesendet.\n\nNoch kein FAU-Mitglied? Dann suche unter fau.o
 rg/gewerkschaft die FAU in deiner Nähe und fülle den Mitgliedsantrag aus
 .\n\nBereits FAU-Mitglied? Dann lasse dir von deinem FAU Syndikat einen FA
 U-Account einrichten und trage dich unter https://accounts.fau.org auf den
  Mailverteiler „branche-it“ ein und komme in unseren internen Chaträu
 me.
ATTACH;FMTTYPE=image/jpeg:https://bit.fau.org/wp-content/uploads/2026/03/F
 AU-Sharepic-39c3-Branchentreffen-FAU-BIT.png
CATEGORIES:FAU BIT - intern
END:VEVENT
BEGIN:VTIMEZONE
TZID:Europe/Berlin
X-LIC-LOCATION:Europe/Berlin
BEGIN:DAYLIGHT
DTSTART:20260329T030000
TZOFFSETFROM:+0100
TZOFFSETTO:+0200
TZNAME:CEST
END:DAYLIGHT
END:VTIMEZONE
END:VCALENDAR