BEGIN:VCALENDAR
VERSION:2.0
PRODID:-//wp-events-plugin.com//7.2.3.1//EN
TZID:Europe/Berlin
X-WR-TIMEZONE:Europe/Berlin
BEGIN:VEVENT
UID:5@bit.fau.org
DTSTART;TZID=Europe/Berlin:20260430T190000
DTEND;TZID=Europe/Berlin:20260430T210000
DTSTAMP:20260305T113050Z
URL:https://bit.fau.org/events/koeln-c4-trifft-die-fau-beim-openchaos/
SUMMARY:Köln: C4 trifft die FAU beim OpenChaos
DESCRIPTION:Die globalgesellschaftliche Lage ist ernst und viele sind hoffn
 ungslos. Wir wollen euch zeigen\, wie man mit der eigenen Hoffnungslosigke
 it umgeht und warum gerade wir\, die im Tech-Sektor arbeiten und das Chaos
  zu dem machen was es ist\, sich besonders gut dazu eignen basisdemokratis
 che antikapitalistische Kämpfe auszufechten. Das braucht die richtige Pro
 blemanalyse und eine noch bessere Lösungsstrategie...\n\nDie Veranstaltun
 g ist Teil des Aktionsmonats "Chaos+ trifft die FAU". Alle Infos findet ih
 r hier: https://bit.fau.org/2026/03/05/grosse-ankuendigung-chaos-trifft-di
 e-fau-aktionsmonat-april/\n\n\n\nDie FAU Köln ist eine basisdemokratisch
 e Selbstorganisation von Arbeiter*innen (Gewerkschaft) die mehr als nur ei
 n paar Prozent mehr auf dem Lohnzettel erreichen wollen. Unser Ziel ist ei
 ne Wirtschafts- und Gesellschaftsordnung\, die auf kollektiver Selbstverwa
 ltung basiert. Wir setzen auf klassenkämpferische\, direkte Aktionen und
  (internationale) Solidarität statt Sozialpartnerschaft und Standortlogik
 .\n\nhttps://koeln.fau.org
ATTACH;FMTTYPE=image/jpeg:https://bit.fau.org/wp-content/uploads/2026/02/C
 haos-trifft-die-FAU-Sharepic-Koeln.png
CATEGORIES:FAU Köln
LOCATION:Chaos Computer Club Cologne (C4)\, Heliosstr. 6a\, Köln\, Nordrhe
 in-Westfalen\, 50825\, Rheinland\, Deutschland
X-APPLE-STRUCTURED-LOCATION;VALUE=URI;X-ADDRESS=Heliosstr. 6a\, Köln\, Nor
 drhein-Westfalen\, 50825\, Rheinland\, Deutschland;X-APPLE-RADIUS=100;X-TI
 TLE=Chaos Computer Club Cologne (C4):geo:0,0
END:VEVENT
BEGIN:VTIMEZONE
TZID:Europe/Berlin
X-LIC-LOCATION:Europe/Berlin
BEGIN:DAYLIGHT
DTSTART:20260329T030000
TZOFFSETFROM:+0100
TZOFFSETTO:+0200
TZNAME:CEST
END:DAYLIGHT
END:VTIMEZONE
END:VCALENDAR