BEGIN:VCALENDAR
VERSION:2.0
PRODID:-//wp-events-plugin.com//7.2.3.1//EN
TZID:Europe/Berlin
X-WR-TIMEZONE:Europe/Berlin
BEGIN:VEVENT
UID:9@bit.fau.org
DTSTART;TZID=Europe/Berlin:20260425T160000
DTEND;TZID=Europe/Berlin:20260425T180000
DTSTAMP:20260305T112956Z
URL:https://bit.fau.org/events/muenster-warpzone-trifft-die-fau/
SUMMARY:Münster: Warpzone trifft die FAU
DESCRIPTION:Die globalgesellschaftliche Lage ist ernst und viele sind hoffn
 ungslos. Wir wollen euch zeigen\, wie man mit der eigenen Hoffnungslosigke
 it umgeht und warum gerade wir\, die im Tech-Sektor arbeiten und das Chaos
  zu dem machen was es ist\, sich besonders gut dazu eignen basisdemokratis
 che antikapitalistische Kämpfe auszufechten. Das braucht die richtige Pro
 blemanalyse und eine noch bessere Lösungsstrategie...\n\nDie Veranstaltun
 g ist Teil des Aktionsmonats "Chaos+ trifft die FAU". Alle Infos findet ih
 r hier: https://bit.fau.org/2026/03/05/grosse-ankuendigung-chaos-trifft-di
 e-fau-aktionsmonat-april/\n\n\n\nDie FAU Münsterland ist eine basisdemok
 ratische Selbstorganisation von Arbeiter*innen (Gewerkschaft) die mehr als
  nur ein paar Prozent mehr auf dem Lohnzettel erreichen wollen. Unser Ziel
  ist eine Wirtschafts- und Gesellschaftsordnung\, die auf kollektiver Selb
 stverwaltung basiert. Wir setzen auf klassenkämpferische\, direkte Aktio
 nen und (internationale) Solidarität statt Sozialpartnerschaft und Stando
 rtlogik.\n\nhttps://muenster.fau.org
ATTACH;FMTTYPE=image/jpeg:https://bit.fau.org/wp-content/uploads/2026/03/C
 haos-trifft-die-FAU-Sharepic-Muenster.png
CATEGORIES:FAU Münsterland
LOCATION:Warpzone\, Am Hawerkamp 31\, Münster\, Nordrhein-Westfalen\, 4815
 5\, Münsterland\, Deutschland
X-APPLE-STRUCTURED-LOCATION;VALUE=URI;X-ADDRESS=Am Hawerkamp 31\, Münster\
 , Nordrhein-Westfalen\, 48155\, Münsterland\, Deutschland;X-APPLE-RADIUS=
 100;X-TITLE=Warpzone:geo:0,0
END:VEVENT
BEGIN:VTIMEZONE
TZID:Europe/Berlin
X-LIC-LOCATION:Europe/Berlin
BEGIN:DAYLIGHT
DTSTART:20260329T030000
TZOFFSETFROM:+0100
TZOFFSETTO:+0200
TZNAME:CEST
END:DAYLIGHT
END:VTIMEZONE
END:VCALENDAR