BEGIN:VCALENDAR
VERSION:2.0
PRODID:-//wp-events-plugin.com//7.2.3.1//EN
TZID:Europe/Berlin
X-WR-TIMEZONE:Europe/Berlin
BEGIN:VEVENT
UID:11@bit.fau.org
DTSTART;TZID=Europe/Berlin:20260430T190000
DTEND;TZID=Europe/Berlin:20260430T210000
DTSTAMP:20260305T113032Z
URL:https://bit.fau.org/events/wuppertal-chaostal-trifft-die-fau-beim-dev-
 tal/
SUMMARY:Wuppertal: Chaostal trifft die FAU beim /dev/tal
DESCRIPTION:Die globalgesellschaftliche Lage ist ernst und viele sind hoffn
 ungslos. Wir wollen euch zeigen\, wie man mit der eigenen Hoffnungslosigke
 it umgeht und warum gerade wir\, die im Tech-Sektor arbeiten und das Chaos
  zu dem machen was es ist\, sich besonders gut dazu eignen basisdemokratis
 che antikapitalistische Kämpfe auszufechten. Das braucht die richtige Pro
 blemanalyse und eine noch bessere Lösungsstrategie...\n\n\n\nDie FAU Ruhr
  ist eine basisdemokratische Selbstorganisation von Arbeiter*innen (Gewerk
 schaft) die mehr als nur ein paar Prozent mehr auf dem Lohnzettel erreiche
 n wollen. Unser Ziel ist eine Wirtschafts- und Gesellschaftsordnung\, die 
 auf kollektiver Selbstverwaltung basiert. Wir setzen auf klassenkämpferi
 sche\, direkte Aktionen und (internationale) Solidarität statt Sozialpart
 nerschaft und Standortlogik.\n\nhttps://ruhr.fau.org
ATTACH;FMTTYPE=image/jpeg:https://bit.fau.org/wp-content/uploads/2026/03/C
 haos-trifft-die-FAU-Sharepic-Wuppertal-2.png
CATEGORIES:FAU Ruhr
LOCATION:/dev/tal - Hackspace Wuppertal\, Mirker Straße 48\, Wuppertal\, N
 ordrhein-Westfalen\, 42105\, Bergisches Land\, Deutschland
X-APPLE-STRUCTURED-LOCATION;VALUE=URI;X-ADDRESS=Mirker Straße 48\, Wuppert
 al\, Nordrhein-Westfalen\, 42105\, Bergisches Land\, Deutschland;X-APPLE-R
 ADIUS=100;X-TITLE=/dev/tal - Hackspace Wuppertal:geo:0,0
END:VEVENT
BEGIN:VTIMEZONE
TZID:Europe/Berlin
X-LIC-LOCATION:Europe/Berlin
BEGIN:DAYLIGHT
DTSTART:20260329T030000
TZOFFSETFROM:+0100
TZOFFSETTO:+0200
TZNAME:CEST
END:DAYLIGHT
END:VTIMEZONE
END:VCALENDAR